BEGIN:VCALENDAR
VERSION:2.0
PRODID:-//Akademie f&uuml;r ganzheitliche Bildung und Transformation - ECPv6.15.20//NONSGML v1.0//EN
CALSCALE:GREGORIAN
METHOD:PUBLISH
X-ORIGINAL-URL:https://transformation-akademie.ch
X-WR-CALDESC:Veranstaltungen im Akademie f&uuml;r ganzheitliche Bildung und Transformation
REFRESH-INTERVAL;VALUE=DURATION:PT1H
X-Robots-Tag:noindex
X-PUBLISHED-TTL:PT1H
BEGIN:VTIMEZONE
TZID:Europe/Berlin
BEGIN:DAYLIGHT
TZOFFSETFROM:+0100
TZOFFSETTO:+0200
TZNAME:CEST
DTSTART:20240331T010000
END:DAYLIGHT
BEGIN:STANDARD
TZOFFSETFROM:+0200
TZOFFSETTO:+0100
TZNAME:CET
DTSTART:20241027T010000
END:STANDARD
BEGIN:DAYLIGHT
TZOFFSETFROM:+0100
TZOFFSETTO:+0200
TZNAME:CEST
DTSTART:20250330T010000
END:DAYLIGHT
BEGIN:STANDARD
TZOFFSETFROM:+0200
TZOFFSETTO:+0100
TZNAME:CET
DTSTART:20251026T010000
END:STANDARD
BEGIN:DAYLIGHT
TZOFFSETFROM:+0100
TZOFFSETTO:+0200
TZNAME:CEST
DTSTART:20260329T010000
END:DAYLIGHT
BEGIN:STANDARD
TZOFFSETFROM:+0200
TZOFFSETTO:+0100
TZNAME:CET
DTSTART:20261025T010000
END:STANDARD
END:VTIMEZONE
BEGIN:VEVENT
DTSTART;TZID=Europe/Berlin:20250828T160000
DTEND;TZID=Europe/Berlin:20250828T220000
DTSTAMP:20260421T225353
CREATED:20250601T215750Z
LAST-MODIFIED:20250617T194543Z
UID:10000060-1756396800-1756418400@transformation-akademie.ch
SUMMARY:Tag der offenen Tür
DESCRIPTION:Lernen Sie uns kennen!
URL:https://transformation-akademie.ch/event/tag-der-offenen-tuer/
LOCATION:Akademie für Bildung und Transformation\, Hertensteinstrasse 30\, Luzern\, 6004\, Switzerland
ATTACH;FMTTYPE=image/jpeg:https://transformation-akademie.ch/wp-content/uploads/2025/06/akademie_bildung_und_transformation.jpg
ORGANIZER;CN="Maik L%C3%A4rz":MAILTO:m.laerz@transformation-akademie.ch
END:VEVENT
END:VCALENDAR