BEGIN:VCALENDAR
VERSION:2.0
PRODID:-//Akademie f&uuml;r ganzheitliche Bildung und Transformation - ECPv6.15.20//NONSGML v1.0//EN
CALSCALE:GREGORIAN
METHOD:PUBLISH
X-ORIGINAL-URL:https://transformation-akademie.ch
X-WR-CALDESC:Veranstaltungen im Akademie f&uuml;r ganzheitliche Bildung und Transformation
REFRESH-INTERVAL;VALUE=DURATION:PT1H
X-Robots-Tag:noindex
X-PUBLISHED-TTL:PT1H
BEGIN:VTIMEZONE
TZID:Europe/Berlin
BEGIN:DAYLIGHT
TZOFFSETFROM:+0100
TZOFFSETTO:+0200
TZNAME:CEST
DTSTART:20260329T010000
END:DAYLIGHT
BEGIN:STANDARD
TZOFFSETFROM:+0200
TZOFFSETTO:+0100
TZNAME:CET
DTSTART:20261025T010000
END:STANDARD
BEGIN:DAYLIGHT
TZOFFSETFROM:+0100
TZOFFSETTO:+0200
TZNAME:CEST
DTSTART:20270328T010000
END:DAYLIGHT
BEGIN:STANDARD
TZOFFSETFROM:+0200
TZOFFSETTO:+0100
TZNAME:CET
DTSTART:20271031T010000
END:STANDARD
BEGIN:DAYLIGHT
TZOFFSETFROM:+0100
TZOFFSETTO:+0200
TZNAME:CEST
DTSTART:20280326T010000
END:DAYLIGHT
BEGIN:STANDARD
TZOFFSETFROM:+0200
TZOFFSETTO:+0100
TZNAME:CET
DTSTART:20281029T010000
END:STANDARD
END:VTIMEZONE
BEGIN:VEVENT
DTSTART;TZID=Europe/Berlin:20270103T000000
DTEND;TZID=Europe/Berlin:20270113T235959
DTSTAMP:20260422T083112
CREATED:20250224T234637Z
LAST-MODIFIED:20260205T202736Z
UID:10000039-1798934400-1799884799@transformation-akademie.ch
SUMMARY:Retreat Sri Lanka 1
DESCRIPTION:Retreat Sri Lanka 1 (Warteliste)\n\n\n\n\n\nÜbersicht Retreat Reise Sri Lanka\n\n\n\n\n\n\n\n10 TAGE IN EINE ANDERE WELT TAUCHEN \n\n\n\nMach Dich startklar für die Reise zu Deinem Sein – einer Begegnung mit Dir selbst! Tauche ein in das wunderschöne Sri Lanka im indischen Ozean. Lerne die Menschen und die Kultur kennen und lass Dich inspirieren von der wunderschönen Natur. Erlebe eine Reise mit Maik Lärz\, die Dich von der Meditation mit Einheimischen\, Yoga\, dem Genuss der landestypischen Küche bis hin zur weltschönsten Zugfahrt nach Ella fühen kann. 10 Tage Rückzug aus dem stressigen Alltag in eine andere Welt. Was bist Du ohne alles? Dieser Frage begegnest Du bei dieser atemberaubenden Auszeit. Maik wird Dir mit seiner 20-jährigen Erfahrung als Trainer und Mediator neue Perspektiven und Möglichkeiten für Dein Leben aufzeigen. Danach wirst Du Dein Sein noch einmal anders\, auf einem neuen Niveau definieren. \n\n\n\nDu darfst einen Rundum-Service erwarten. Rechtzeitig vor Beginn der Reise wird es einen Informationsabend geben\, bei dem Du alle wichtigen Details erfahren wirst\, die zur Vorbereitung der Retreat-Reise wichtig sind.  \n\n\n\n\n      Sie sehen gerade einen Platzhalterinhalt von YouTube. Um auf den eigentlichen Inhalt zuzugreifen\, klicken Sie auf die Schaltfläche unten. Bitte beachten Sie\, dass dabei Daten an Drittanbieter weitergegeben werden.  Mehr Informationen   Inhalt entsperren Erforderlichen Service akzeptieren und Inhalte entsperren   \n\n\n\n\nWeitere Details\n\n\n\n\n\n\n\nSofern Sie Rückfragen haben\, kontaktieren Sie uns gern unter +41 76 361 48 99. \n\n\n\n\n\n\n\n\n\n\n\n\nDatum und Zeit\n\n\n\n\n\n\n\n\n\n\n\n\n\nDetails\n\n\n\n\n\n\n\nFlug muss separat gebucht werden – nicht im Preis inbegriffen! \n\n\n\n\n\n\n\nLehrtrainer\n\n\n\n\n\n\n\nName: Maik LärzE-Mail: m.laerz@transformation-akademie.chMobil: +41 763614899 \n\n\n\n\n\njetzt anmelden!\n\n\n\n\n\n\nVeranstaltungsort\n\n\n\n\n\n\n\n\n\n\n\n\n\n\n\n\nNächste Veranstaltungen\n\n\n\n\n\n\n\n\n	\n		\n\n			\n			\n\n							\n					\n						Anstehende Veranstaltungen					\n				\n			\n			\n				\n											\n\n	\n	\n		\n			Mai		\n		\n			11		\n	\n\n\n	\n		\n			\n\n				\n					\n	\n	\n	\n\n\n\n	Vorgestellt\n	\n		11. Mai – 13. Mai	\n	\n					\n	\n		Hypnose-Coach/Therapeut	\n\n				\n\n				\n			\n		\n	\n\n\n											\n\n	\n	\n		\n			Mai		\n		\n			12		\n	\n\n\n	\n		\n			\n\n				\n					\n		\n		18:00 – 22:00	\n	\n					\n	\n		Aufstellungsabend	\n\n				\n\n				\n			\n		\n	\n\n\n											\n\n	\n	\n		\n			Mai		\n		\n			14		\n	\n\n\n	\n		\n			\n\n				\n					\n	\n	\n	\n\n\n\n	Vorgestellt\n	\n		14. Mai – 15. Mai	\n	\n					\n	\n		Yager Code	\n\n				\n\n				\n			\n		\n	\n\n\n											\n\n	\n	\n		\n			Juni		\n		\n			22		\n	\n\n\n	\n		\n			\n\n				\n					\n	\n	\n	\n\n\n\n	Vorgestellt\n	\n		22. Juni – 28. Juni	\n	\n					\n	\n		NLP Powerwoche	\n\n				\n\n				\n			\n		\n	\n\n\n											\n\n	\n	\n		\n			Juni		\n		\n			23		\n	\n\n\n	\n		\n			\n\n				\n					\n		\n		18:00 – 22:00	\n	\n					\n	\n		Aufstellungsabend	\n\n				\n\n				\n			\n		\n	\n\n\n									\n\n				\n	\n		Kalenderansicht
URL:https://transformation-akademie.ch/event/sri-lanka-1/
LOCATION:Aluthgama\, Sri Lanka\, Sri Lanka
CATEGORIES:Sri Lanka
ATTACH;FMTTYPE=image/jpeg:https://transformation-akademie.ch/wp-content/uploads/2025/02/k-k-cXA4aqPV.jpeg
END:VEVENT
BEGIN:VEVENT
DTSTART;TZID=Europe/Berlin:20270111T000000
DTEND;TZID=Europe/Berlin:20270117T235959
DTSTAMP:20260422T083112
CREATED:20260128T175425Z
LAST-MODIFIED:20260421T134121Z
UID:10000062-1799625600-1800230399@transformation-akademie.ch
SUMMARY:NLP Powerwoche
DESCRIPTION:NLP Practitioner Powerwoche\n\n\n\n\n\n\n\n\n\n\n\n\n\n\n\n\n\n\n\n\nDatum und Zeit\n\n\n\n\n\n\n\n\n\n\n\n\n\nSeminarzeitenMontag bis Freitag 09:00 – 18:00 Uhr Sonntag 09:00 – 15:00 Uhr \n\n\n\n\n\n\n\n\n\n\n\n\n\n\n\nVeranstaltungsort\n\n\n\n\n\n\n\n\n\n\n\n\n\n\n\n\n\n\n\n\n\nLehrtrainer\n\n\n\n\n\n\n\n\n\n\n\nMaik Lärzm.laerz@transformation-akademie.ch+41 763614899 \n\n\n\n\n\n\n\n\n\n\n\nPreis\n\n\n\n\n\n\n\n\n\n\n\n\n\n\n\njetzt anmelden!\n\n\n\n\n\n\n\n\n\n\n\n\n\nPowerwoche – Ausbildung zum NLP Practitioner und Coach für Kommunikation und Beratung\n\n\n\n\n\n\n\nKommuniziere wie ein Profi als NLP Practitioner!\n\n\n\nDie 7-tägige Ausbildung zum NLP Practitioner bzw. Coach für Kommunikation und Beratung richtet sich an alle Einsteiger und Interessierte im Bereich Kommunikation und Persönlichkeitsentwicklung. Dabei lernen Sie von Montag bis Sonntag mit Hilfe wichtiger Grundelemente und spezieller Schlüsselkompetenzen wertschätzend und nachhaltig zu kommunizieren. In kleinen Übungsgruppen lernen Sie intensiv Ihren zwischenmenschlichen Umgang selbstbewusst zu gestalten und ganz nebenbei noch Ihrem Umfeld hilfreich sein zu können. Machen Sie mit uns den ersten Schritt in Richtung selbstbestimmte Kommunikation! \n\n\n\n\n\n\n\n\nNLP 1: Einführung / Basistechniken – Teil A I Teil B\n\nRapport\n\n\n\nWahrnehmung\n\n\n\nRepräsentationssysteme und Zugangshinweise\n\n\n\nMoment of Excellence\n\n\n\nZieldefinition und Zielmodell\n\n\n\nAngleichen und Führen\n\n\n\nIntegration\n\n\n\nMeta-Modell\n\n\n\nPhysiologie\n\n\n\nStuck State / Separator State\n\n\n\nAnkern\n\n\n\nÖkologie\n\n\n\nVeränderung der persönlichen Geschichte\,\n\n\n\nIntegration wingwave®: kalibrieren mit dem O-Ringtest. Wie das Wirken wirkt.\n\n\n\n\n\nNLP 2: Refraiming I Submodalitäten\n\nTeilemodell der Persönlichkeit\n\n\n\nInhaltliches und Kontextrefraiming\n\n\n\nSix-Step-Reframing\n\n\n\nArbeit mit Submodalitäten\n\n\n\nSwish\, Fast Phobia-Technik\, Phobietechnik\n\n\n\n\n\nNLP 3: Trance I Umgang mit Systemen\n\nHypnose\n\n\n\nMilton-Modell hypnotischer Kommunikation\n\n\n\nTranceinduktion\n\n\n\nTrancevertiefung\n\n\n\nTrance-Six-Step\n\n\n\nEnthypnotisierung\n\n\n\nInteraktionsmuster\n\n\n\nkalibierte Schleifen\n\n\n\nVeränderungs- und Konfliktlösende Techniken für Paare\, Familien und Teams\n\n\n\n\n\nNLC 4:IMAGINATIVE ORGANISATIONS- / THEMENAUFSTELLUNG I STRATEGIEN I INTEGRATION DER FÄHIGKEITEN\n\nEinführung in die systemische Aufstellungsarbeit\n\n\n\nSubmodalitäten und Raumanker im Vorstellungsraum\n\n\n\nIntegration wingwave®: wingwave® und imaginative Verfahre\n\n\n\n Modelling\, Chaining\, Timeline\, New Behavior Generator\n\n\n\nIntegration wingwave®: wingwave® und Timeline\, Integration: Magic Words®\n\n\n\nDemonstration\, Supervision\, Feedback und Integration der erworbenen Fähigkeiten.\n\n\n\n\n\n\n\n\n\n\n\n                \n                \n                \n                \n\n								11\n								Mai\n								2026\n								\nHypnose-Coach/Therapeut\n                        \n                       \n                        Akademie für Bildung und Transformation\,\n\nHertensteinstrasse 30\n	\n		\n		Luzern\,\n\n\n	6004\n\n	Switzerland\n\n\n+ Google Karte\n                \n                1560\,00CHF      \n    Details aufrufen\n    \n                \n                \n                \n                \n\n								12\n								Mai\n								2026\n								\nAufstellungsabend\n                        \n                       \n                        Akademie für Bildung und Transformation\,\n\nHertensteinstrasse 30\n	\n		\n		Luzern\,\n\n\n	6004\n\n	Switzerland\n\n\n+ Google Karte\n                \n                40\,00CHF      \n    Details aufrufen\n    \n                \n                \n                \n                \n\n								14\n								Mai\n								2026\n								\nYager Code\n                        \n                       \n                        Akademie für Bildung und Transformation\,\n\nHertensteinstrasse 30\n	\n		\n		Luzern\,\n\n\n	6004\n\n	Switzerland\n\n\n+ Google Karte\n                \n                970\,00CHF      \n    Details aufrufen\n    \n                \n                \n                \n                \n\n								22\n								Juni\n								2026\n								\nNLP Powerwoche\n                        \n                       \n                        Akademie für Bildung und Transformation\,\n\nHertensteinstrasse 30\n	\n		\n		Luzern\,\n\n\n	6004\n\n	Switzerland\n\n\n+ Google Karte\n                \n                2500\,00CHF      \n    Details aufrufen\n    \n                \n                \n                \n                \n\n								23\n								Juni\n								2026\n								\nAufstellungsabend\n                        \n                       \n                        Akademie für Bildung und Transformation\,\n\nHertensteinstrasse 30\n	\n		\n		Luzern\,\n\n\n	6004\n\n	Switzerland\n\n\n+ Google Karte\n                \n                40\,00CHF      \n    Details aufrufen\n    \n                \n                \n                \n                \n\n								31\n								August\n								2026\n								\nwingwave® Coach\n                        \n                       \n                        Akademie für Bildung und Transformation\,\n\nHertensteinstrasse 30\n	\n		\n		Luzern\,\n\n\n	6004\n\n	Switzerland\n\n\n+ Google Karte\n                \n                1700\,00CHF      \n    Details aufrufen\n    \n                \n                \n                \n                \n\n								01\n								September\n								2026\n								\nAufstellungsabend\n                        \n                       \n                        Akademie für Bildung und Transformation\,\n\nHertensteinstrasse 30\n	\n		\n		Luzern\,\n\n\n	6004\n\n	Switzerland\n\n\n+ Google Karte\n                \n                40\,00CHF      \n    Details aufrufen\n    \n                \n                \n                \n                \n\n								12\n								Oktober\n								2026\n								\nEmotionSync® EMDR+ Coach/Therapeut\n                        \n                       \n                        Akademie für Bildung und Transformation\,\n\nHertensteinstrasse 30\n	\n		\n		Luzern\,\n\n\n	6004\n\n	Switzerland\n\n\n+ Google Karte\n                \n                1800\,00CHF      \n    Details aufrufen\n    \n                \n                \n                \n                \n\n								13\n								Oktober\n								2026\n								\nAufstellungsabend\n                        \n                       \n                        Akademie für Bildung und Transformation\,\n\nHertensteinstrasse 30\n	\n		\n		Luzern\,\n\n\n	6004\n\n	Switzerland\n\n\n+ Google Karte\n                \n                40\,00CHF      \n    Details aufrufen\n    \n                \n                \n                \n                \n\n								09\n								November\n								2026\n								\nHypnose-Coach/Therapeut\n                        \n                       \n                        Akademie für Bildung und Transformation\,\n\nHertensteinstrasse 30\n	\n		\n		Luzern\,\n\n\n	6004\n\n	Switzerland\n\n\n+ Google Karte\n                \n                1560\,00CHF      \n    Details aufrufen\n    \n                \n                 Load More
URL:https://transformation-akademie.ch/event/nlp-powerwoche/
LOCATION:Akademie für Bildung und Transformation\, Hertensteinstrasse 30\, Luzern\, 6004\, Switzerland
CATEGORIES:Ausbildung,NLC Practitioner
ATTACH;FMTTYPE=image/jpeg:https://transformation-akademie.ch/wp-content/uploads/2025/05/k-k-IMG_1826.jpg
END:VEVENT
BEGIN:VEVENT
DTSTART;TZID=Europe/Berlin:20270112T180000
DTEND;TZID=Europe/Berlin:20270112T220000
DTSTAMP:20260422T083113
CREATED:20260128T202419Z
LAST-MODIFIED:20260128T202430Z
UID:10000073-1799776800-1799791200@transformation-akademie.ch
SUMMARY:Aufstellungsabend
DESCRIPTION:Aufstellungsabend\n\n\n\n\n\n\n\n\n\n\n\n\n\n\n\n\n\n\n\n\nDatum und Zeit\n\n\n\n\n\n\n\n\n\n\n\n\n\nZeitraum:18:00 – 22:00 Uhr \n\n\n\n\n\n\n\n\n\n\n\n\n\n\n\nVeranstaltungsort\n\n\n\n\n\n\n\n\n\n\n\n\n\n\n\n\n\n\n\n\n\nLehrtrainer\n\n\n\n\n\n\n\n\n\n\n\nMaik Lärzm.laerz@transformation-akademie.ch+41 763614899 \n\n\n\n\n\n\n\n\n\n\n\nPreis\n\n\n\n\n\n\n\n\n\n\n\n\n\n\n\njetzt anmelden!\n\n\n\n\n\n\n\n\n\n\n\n\n\nÜbersicht Familien- und Systemaufstellung\n\n\n\n\n\n\n\n„Die reinste Form des Wahnsinns ist es\, alles beim Alten zu lassen und zu hoffen\, dass sich etwas ändert.“ (Albert Einstein)\n\n\n\n\n\n\n\nWir Menschen leben und agieren in Systemen\, sei es an der Arbeit\, in der Freizeit\, oder in unseren Familien. Die komplexen Vernetzungen und Gesetzmäßigkeiten darin lassen sich nur schwer im Alltag begreifen und so passiert es schnell\, dass wir ratlos sind und uns unseren Problemen gegenüber ausgeliefert fühlen. So wollen wir als „Maik Lärz Akademie“ durch unsere regelmäßige Aufstellungsarbeit (incl. persönlichen Erfahrungsaustausch) Orientierung und Schutzräume bieten\, durch die jeder Teilnehmer bei seiner Problembewältigung professionell angeleitet und unterstützt wird. Wir bedienen uns dabei der neuesten Coaching- und Therapiekonzepte die derzeit auf dem Ausbildungsmarkt zu finden sind\, welche ebenso bei uns in der Akademie gelehrt und angewandt werden. Dabei handelt es sich unter anderem um therapeutisch etablierte Methoden wie Wingwave\, emotionSync\, EMDR+ und natürlich das systemische Coaching\, bzw. die Aufstellungsarbeit. \n\n\n\n\n\n\n\nIhre Vorteile bei diesem Workshop: \n\n\n\n\nmax. Preisvorteil 40\,00 CHF\n\n\n\nSnacks und Getränke inklusive\n\n\n\nGrundkenntnisse in systemischen Arbeiten mit Familien und anderen Systemen\n\n\n\npersönliche Themen können aufgestellt und lösungsorientiert bearbeitet werden\n\n\n\nprofessionell ausgestattete Atmosphäre im großen Akademie-Saal\n\n\n\n\n\n\n\nWeitere Termine im Überblick\n\n\n\n\n\n                \n                \n                \n                \n\n								11\n								Mai\n								2026\n								\nHypnose-Coach/Therapeut\n                        \n                       \n                        Akademie für Bildung und Transformation\,\n\nHertensteinstrasse 30\n	\n		\n		Luzern\,\n\n\n	6004\n\n	Switzerland\n\n\n+ Google Karte\n                \n                1560\,00CHF      \n    Details aufrufen\n    \n                \n                \n                \n                \n\n								12\n								Mai\n								2026\n								\nAufstellungsabend\n                        \n                       \n                        Akademie für Bildung und Transformation\,\n\nHertensteinstrasse 30\n	\n		\n		Luzern\,\n\n\n	6004\n\n	Switzerland\n\n\n+ Google Karte\n                \n                40\,00CHF      \n    Details aufrufen\n    \n                \n                \n                \n                \n\n								14\n								Mai\n								2026\n								\nYager Code\n                        \n                       \n                        Akademie für Bildung und Transformation\,\n\nHertensteinstrasse 30\n	\n		\n		Luzern\,\n\n\n	6004\n\n	Switzerland\n\n\n+ Google Karte\n                \n                970\,00CHF      \n    Details aufrufen\n    \n                \n                \n                \n                \n\n								22\n								Juni\n								2026\n								\nNLP Powerwoche\n                        \n                       \n                        Akademie für Bildung und Transformation\,\n\nHertensteinstrasse 30\n	\n		\n		Luzern\,\n\n\n	6004\n\n	Switzerland\n\n\n+ Google Karte\n                \n                2500\,00CHF      \n    Details aufrufen\n    \n                \n                \n                \n                \n\n								23\n								Juni\n								2026\n								\nAufstellungsabend\n                        \n                       \n                        Akademie für Bildung und Transformation\,\n\nHertensteinstrasse 30\n	\n		\n		Luzern\,\n\n\n	6004\n\n	Switzerland\n\n\n+ Google Karte\n                \n                40\,00CHF      \n    Details aufrufen\n    \n                \n                \n                \n                \n\n								31\n								August\n								2026\n								\nwingwave® Coach\n                        \n                       \n                        Akademie für Bildung und Transformation\,\n\nHertensteinstrasse 30\n	\n		\n		Luzern\,\n\n\n	6004\n\n	Switzerland\n\n\n+ Google Karte\n                \n                1700\,00CHF      \n    Details aufrufen\n    \n                \n                \n                \n                \n\n								01\n								September\n								2026\n								\nAufstellungsabend\n                        \n                       \n                        Akademie für Bildung und Transformation\,\n\nHertensteinstrasse 30\n	\n		\n		Luzern\,\n\n\n	6004\n\n	Switzerland\n\n\n+ Google Karte\n                \n                40\,00CHF      \n    Details aufrufen\n    \n                \n                \n                \n                \n\n								12\n								Oktober\n								2026\n								\nEmotionSync® EMDR+ Coach/Therapeut\n                        \n                       \n                        Akademie für Bildung und Transformation\,\n\nHertensteinstrasse 30\n	\n		\n		Luzern\,\n\n\n	6004\n\n	Switzerland\n\n\n+ Google Karte\n                \n                1800\,00CHF      \n    Details aufrufen\n    \n                \n                \n                \n                \n\n								13\n								Oktober\n								2026\n								\nAufstellungsabend\n                        \n                       \n                        Akademie für Bildung und Transformation\,\n\nHertensteinstrasse 30\n	\n		\n		Luzern\,\n\n\n	6004\n\n	Switzerland\n\n\n+ Google Karte\n                \n                40\,00CHF      \n    Details aufrufen\n    \n                \n                \n                \n                \n\n								09\n								November\n								2026\n								\nHypnose-Coach/Therapeut\n                        \n                       \n                        Akademie für Bildung und Transformation\,\n\nHertensteinstrasse 30\n	\n		\n		Luzern\,\n\n\n	6004\n\n	Switzerland\n\n\n+ Google Karte\n                \n                1560\,00CHF      \n    Details aufrufen\n    \n                \n                 Load More
URL:https://transformation-akademie.ch/event/aufstellungsabend-10/
LOCATION:Akademie für Bildung und Transformation\, Hertensteinstrasse 30\, Luzern\, 6004\, Switzerland
CATEGORIES:Aufstellungsabend,Workshops
ATTACH;FMTTYPE=image/jpeg:https://transformation-akademie.ch/wp-content/uploads/2025/09/maik-laerz-akademieDSC_3469.jpg
END:VEVENT
END:VCALENDAR