BEGIN:VCALENDAR
VERSION:2.0
PRODID:-//Akademie f&uuml;r ganzheitliche Bildung und Transformation - ECPv6.15.20//NONSGML v1.0//EN
CALSCALE:GREGORIAN
METHOD:PUBLISH
X-WR-CALNAME:Akademie f&uuml;r ganzheitliche Bildung und Transformation
X-ORIGINAL-URL:https://transformation-akademie.ch
X-WR-CALDESC:Veranstaltungen im Akademie f&uuml;r ganzheitliche Bildung und Transformation
REFRESH-INTERVAL;VALUE=DURATION:PT1H
X-Robots-Tag:noindex
X-PUBLISHED-TTL:PT1H
BEGIN:VTIMEZONE
TZID:Europe/Berlin
BEGIN:DAYLIGHT
TZOFFSETFROM:+0100
TZOFFSETTO:+0200
TZNAME:CEST
DTSTART:20260329T010000
END:DAYLIGHT
BEGIN:STANDARD
TZOFFSETFROM:+0200
TZOFFSETTO:+0100
TZNAME:CET
DTSTART:20261025T010000
END:STANDARD
BEGIN:DAYLIGHT
TZOFFSETFROM:+0100
TZOFFSETTO:+0200
TZNAME:CEST
DTSTART:20270328T010000
END:DAYLIGHT
BEGIN:STANDARD
TZOFFSETFROM:+0200
TZOFFSETTO:+0100
TZNAME:CET
DTSTART:20271031T010000
END:STANDARD
BEGIN:DAYLIGHT
TZOFFSETFROM:+0100
TZOFFSETTO:+0200
TZNAME:CEST
DTSTART:20280326T010000
END:DAYLIGHT
BEGIN:STANDARD
TZOFFSETFROM:+0200
TZOFFSETTO:+0100
TZNAME:CET
DTSTART:20281029T010000
END:STANDARD
END:VTIMEZONE
BEGIN:VEVENT
DTSTART;TZID=Europe/Berlin:20271221T180000
DTEND;TZID=Europe/Berlin:20271221T220000
DTSTAMP:20260422T032937
CREATED:20260128T204049Z
LAST-MODIFIED:20260128T204051Z
UID:10000084-1829412000-1829426400@transformation-akademie.ch
SUMMARY:Aufstellungsabend
DESCRIPTION:Aufstellungsabend\n\n\n\n\n\n\n\n\n\n\n\n\n\n\n\n\n\n\n\n\nDatum und Zeit\n\n\n\n\n\n\n\n\n\n\n\n\n\nZeitraum:18:00 – 22:00 Uhr \n\n\n\n\n\n\n\n\n\n\n\n\n\n\n\nVeranstaltungsort\n\n\n\n\n\n\n\n\n\n\n\n\n\n\n\n\n\n\n\n\n\nLehrtrainer\n\n\n\n\n\n\n\n\n\n\n\nMaik Lärzm.laerz@transformation-akademie.ch+41 763614899 \n\n\n\n\n\n\n\n\n\n\n\nPreis\n\n\n\n\n\n\n\n\n\n\n\n\n\n\n\njetzt anmelden!\n\n\n\n\n\n\n\n\n\n\n\n\n\nÜbersicht Familien- und Systemaufstellung\n\n\n\n\n\n\n\n„Die reinste Form des Wahnsinns ist es\, alles beim Alten zu lassen und zu hoffen\, dass sich etwas ändert.“ (Albert Einstein)\n\n\n\n\n\n\n\nWir Menschen leben und agieren in Systemen\, sei es an der Arbeit\, in der Freizeit\, oder in unseren Familien. Die komplexen Vernetzungen und Gesetzmäßigkeiten darin lassen sich nur schwer im Alltag begreifen und so passiert es schnell\, dass wir ratlos sind und uns unseren Problemen gegenüber ausgeliefert fühlen. So wollen wir als „Maik Lärz Akademie“ durch unsere regelmäßige Aufstellungsarbeit (incl. persönlichen Erfahrungsaustausch) Orientierung und Schutzräume bieten\, durch die jeder Teilnehmer bei seiner Problembewältigung professionell angeleitet und unterstützt wird. Wir bedienen uns dabei der neuesten Coaching- und Therapiekonzepte die derzeit auf dem Ausbildungsmarkt zu finden sind\, welche ebenso bei uns in der Akademie gelehrt und angewandt werden. Dabei handelt es sich unter anderem um therapeutisch etablierte Methoden wie Wingwave\, emotionSync\, EMDR+ und natürlich das systemische Coaching\, bzw. die Aufstellungsarbeit. \n\n\n\n\n\n\n\nIhre Vorteile bei diesem Workshop: \n\n\n\n\nmax. Preisvorteil 40\,00 CHF\n\n\n\nSnacks und Getränke inklusive\n\n\n\nGrundkenntnisse in systemischen Arbeiten mit Familien und anderen Systemen\n\n\n\npersönliche Themen können aufgestellt und lösungsorientiert bearbeitet werden\n\n\n\nprofessionell ausgestattete Atmosphäre im großen Akademie-Saal\n\n\n\n\n\n\n\nWeitere Termine im Überblick\n\n\n\n\n\n                \n                \n                \n                \n\n								11\n								Mai\n								2026\n								\nHypnose-Coach/Therapeut\n                        \n                       \n                        Akademie für Bildung und Transformation\,\n\nHertensteinstrasse 30\n	\n		\n		Luzern\,\n\n\n	6004\n\n	Switzerland\n\n\n+ Google Karte\n                \n                1560\,00CHF      \n    Details aufrufen\n    \n                \n                \n                \n                \n\n								12\n								Mai\n								2026\n								\nAufstellungsabend\n                        \n                       \n                        Akademie für Bildung und Transformation\,\n\nHertensteinstrasse 30\n	\n		\n		Luzern\,\n\n\n	6004\n\n	Switzerland\n\n\n+ Google Karte\n                \n                40\,00CHF      \n    Details aufrufen\n    \n                \n                \n                \n                \n\n								14\n								Mai\n								2026\n								\nYager Code\n                        \n                       \n                        Akademie für Bildung und Transformation\,\n\nHertensteinstrasse 30\n	\n		\n		Luzern\,\n\n\n	6004\n\n	Switzerland\n\n\n+ Google Karte\n                \n                970\,00CHF      \n    Details aufrufen\n    \n                \n                \n                \n                \n\n								22\n								Juni\n								2026\n								\nNLP Powerwoche\n                        \n                       \n                        Akademie für Bildung und Transformation\,\n\nHertensteinstrasse 30\n	\n		\n		Luzern\,\n\n\n	6004\n\n	Switzerland\n\n\n+ Google Karte\n                \n                2500\,00CHF      \n    Details aufrufen\n    \n                \n                \n                \n                \n\n								23\n								Juni\n								2026\n								\nAufstellungsabend\n                        \n                       \n                        Akademie für Bildung und Transformation\,\n\nHertensteinstrasse 30\n	\n		\n		Luzern\,\n\n\n	6004\n\n	Switzerland\n\n\n+ Google Karte\n                \n                40\,00CHF      \n    Details aufrufen\n    \n                \n                \n                \n                \n\n								31\n								August\n								2026\n								\nwingwave® Coach\n                        \n                       \n                        Akademie für Bildung und Transformation\,\n\nHertensteinstrasse 30\n	\n		\n		Luzern\,\n\n\n	6004\n\n	Switzerland\n\n\n+ Google Karte\n                \n                1700\,00CHF      \n    Details aufrufen\n    \n                \n                \n                \n                \n\n								01\n								September\n								2026\n								\nAufstellungsabend\n                        \n                       \n                        Akademie für Bildung und Transformation\,\n\nHertensteinstrasse 30\n	\n		\n		Luzern\,\n\n\n	6004\n\n	Switzerland\n\n\n+ Google Karte\n                \n                40\,00CHF      \n    Details aufrufen\n    \n                \n                \n                \n                \n\n								12\n								Oktober\n								2026\n								\nEmotionSync® EMDR+ Coach/Therapeut\n                        \n                       \n                        Akademie für Bildung und Transformation\,\n\nHertensteinstrasse 30\n	\n		\n		Luzern\,\n\n\n	6004\n\n	Switzerland\n\n\n+ Google Karte\n                \n                1800\,00CHF      \n    Details aufrufen\n    \n                \n                \n                \n                \n\n								13\n								Oktober\n								2026\n								\nAufstellungsabend\n                        \n                       \n                        Akademie für Bildung und Transformation\,\n\nHertensteinstrasse 30\n	\n		\n		Luzern\,\n\n\n	6004\n\n	Switzerland\n\n\n+ Google Karte\n                \n                40\,00CHF      \n    Details aufrufen\n    \n                \n                \n                \n                \n\n								09\n								November\n								2026\n								\nHypnose-Coach/Therapeut\n                        \n                       \n                        Akademie für Bildung und Transformation\,\n\nHertensteinstrasse 30\n	\n		\n		Luzern\,\n\n\n	6004\n\n	Switzerland\n\n\n+ Google Karte\n                \n                1560\,00CHF      \n    Details aufrufen\n    \n                \n                 Load More
URL:https://transformation-akademie.ch/event/aufstellungsabend-18/
LOCATION:Akademie für Bildung und Transformation\, Hertensteinstrasse 30\, Luzern\, 6004\, Switzerland
CATEGORIES:Aufstellungsabend,Workshops
ATTACH;FMTTYPE=image/jpeg:https://transformation-akademie.ch/wp-content/uploads/2025/09/maik-laerz-akademieDSC_3469.jpg
END:VEVENT
END:VCALENDAR