BEGIN:VCALENDAR
VERSION:2.0
PRODID:-//Akademie f&uuml;r ganzheitliche Bildung und Transformation - ECPv6.15.20//NONSGML v1.0//EN
CALSCALE:GREGORIAN
METHOD:PUBLISH
X-WR-CALNAME:Akademie f&uuml;r ganzheitliche Bildung und Transformation
X-ORIGINAL-URL:https://transformation-akademie.ch
X-WR-CALDESC:Veranstaltungen im Akademie f&uuml;r ganzheitliche Bildung und Transformation
REFRESH-INTERVAL;VALUE=DURATION:PT1H
X-Robots-Tag:noindex
X-PUBLISHED-TTL:PT1H
BEGIN:VTIMEZONE
TZID:Europe/Berlin
BEGIN:DAYLIGHT
TZOFFSETFROM:+0100
TZOFFSETTO:+0200
TZNAME:CEST
DTSTART:20250330T010000
END:DAYLIGHT
BEGIN:STANDARD
TZOFFSETFROM:+0200
TZOFFSETTO:+0100
TZNAME:CET
DTSTART:20251026T010000
END:STANDARD
BEGIN:DAYLIGHT
TZOFFSETFROM:+0100
TZOFFSETTO:+0200
TZNAME:CEST
DTSTART:20260329T010000
END:DAYLIGHT
BEGIN:STANDARD
TZOFFSETFROM:+0200
TZOFFSETTO:+0100
TZNAME:CET
DTSTART:20261025T010000
END:STANDARD
BEGIN:DAYLIGHT
TZOFFSETFROM:+0100
TZOFFSETTO:+0200
TZNAME:CEST
DTSTART:20270328T010000
END:DAYLIGHT
BEGIN:STANDARD
TZOFFSETFROM:+0200
TZOFFSETTO:+0100
TZNAME:CET
DTSTART:20271031T010000
END:STANDARD
END:VTIMEZONE
BEGIN:VEVENT
DTSTART;TZID=Europe/Berlin:20260514T000000
DTEND;TZID=Europe/Berlin:20260515T235959
DTSTAMP:20260421T211256
CREATED:20260205T205351Z
LAST-MODIFIED:20260402T093414Z
UID:10000091-1778716800-1778889599@transformation-akademie.ch
SUMMARY:Yager Code
DESCRIPTION:YAGER CODE\n\n\n\n\n\n\n\n\n\n\n\n\n\n\n\n\n\n\n\n\nDatum und Zeit\n\n\n\n\n\n\n\n\n\n\n\n\n\nSeminarzeitenDonnerstag 11:00 – 18.00 UhrFreitag 10:00 – 15:00 Uhr \n\n\n\n\n\n\n\n\n\n\n\n\n\n\n\nVeranstaltungsort\n\n\n\n\n\n\n\n\n\n\n\n\n\n\n\n\n\n\n\n\n\nLehrtrainer\n\n\n\n\n\n\n\n\n\n\n\nMaik Lärzm.laerz@transformation-akademie.ch+41 763614899 \n\n\n\n\n\n\n\n\n\n\n\nPreis\n\n\n\n\n\n\n\n\n\n\n\n\n\n\n\njetzt anmelden!\n\n\n\n\n\n\n\n\n\n\n\n\n\nÜbersicht Ausbildung Yager Code\n\n\n\n\n\n\n\nYAGER CODE mit ungeahnten Möglichkeiten!\n\n\n\n\n\n\n\nDer Yager-Code bietet einen revolutionären Ansatz für psychische und körperliche Probleme und Erkrankungen. Aufgrund der Nutzung der höheren inneren Intelligenz ist das Behandlungsprotokoll des Yager-Codes relativ leicht zu erlernen und auch anzuwenden. Erfolge sind oft in nur wenigen Sitzungen möglich. \n\n\n\nDer Yager Code wird zum Lösen psychischer und körperlicher Störungen mit großem Erfolg angewendet\, unter anderem bei: \n\n\n\n\nAllergien\, Heuschnupfen\n\n\n\nSüchten (Rauchen\, Alkohol\, Tabletten)\n\n\n\nÄngsten\, Panik\, Phobien\n\n\n\nVerdauungsproblemen\n\n\n\nextremen Stimmungsschwankungen\n\n\n\nchronische Schmerzen (75 %)\n\n\n\nStottern\n\n\n\nAsthma\n\n\n\n\n\n\n\n\n\n\n\nWeitere Termine im Überblick\n\n\n\n\n\n                \n                \n                \n                \n\n								11\n								Mai\n								2026\n								\nHypnose-Coach/Therapeut\n                        \n                       \n                        Akademie für Bildung und Transformation\,\n\nHertensteinstrasse 30\n	\n		\n		Luzern\,\n\n\n	6004\n\n	Switzerland\n\n\n+ Google Karte\n                \n                1560\,00CHF      \n    Details aufrufen\n    \n                \n                \n                \n                \n\n								12\n								Mai\n								2026\n								\nAufstellungsabend\n                        \n                       \n                        Akademie für Bildung und Transformation\,\n\nHertensteinstrasse 30\n	\n		\n		Luzern\,\n\n\n	6004\n\n	Switzerland\n\n\n+ Google Karte\n                \n                40\,00CHF      \n    Details aufrufen\n    \n                \n                \n                \n                \n\n								14\n								Mai\n								2026\n								\nYager Code\n                        \n                       \n                        Akademie für Bildung und Transformation\,\n\nHertensteinstrasse 30\n	\n		\n		Luzern\,\n\n\n	6004\n\n	Switzerland\n\n\n+ Google Karte\n                \n                970\,00CHF      \n    Details aufrufen\n    \n                \n                \n                \n                \n\n								22\n								Juni\n								2026\n								\nNLP Powerwoche\n                        \n                       \n                        Akademie für Bildung und Transformation\,\n\nHertensteinstrasse 30\n	\n		\n		Luzern\,\n\n\n	6004\n\n	Switzerland\n\n\n+ Google Karte\n                \n                2500\,00CHF      \n    Details aufrufen\n    \n                \n                \n                \n                \n\n								23\n								Juni\n								2026\n								\nAufstellungsabend\n                        \n                       \n                        Akademie für Bildung und Transformation\,\n\nHertensteinstrasse 30\n	\n		\n		Luzern\,\n\n\n	6004\n\n	Switzerland\n\n\n+ Google Karte\n                \n                40\,00CHF      \n    Details aufrufen\n    \n                \n                \n                \n                \n\n								31\n								August\n								2026\n								\nwingwave® Coach\n                        \n                       \n                        Akademie für Bildung und Transformation\,\n\nHertensteinstrasse 30\n	\n		\n		Luzern\,\n\n\n	6004\n\n	Switzerland\n\n\n+ Google Karte\n                \n                1700\,00CHF      \n    Details aufrufen\n    \n                \n                \n                \n                \n\n								01\n								September\n								2026\n								\nAufstellungsabend\n                        \n                       \n                        Akademie für Bildung und Transformation\,\n\nHertensteinstrasse 30\n	\n		\n		Luzern\,\n\n\n	6004\n\n	Switzerland\n\n\n+ Google Karte\n                \n                40\,00CHF      \n    Details aufrufen\n    \n                \n                \n                \n                \n\n								12\n								Oktober\n								2026\n								\nEmotionSync® EMDR+ Coach/Therapeut\n                        \n                       \n                        Akademie für Bildung und Transformation\,\n\nHertensteinstrasse 30\n	\n		\n		Luzern\,\n\n\n	6004\n\n	Switzerland\n\n\n+ Google Karte\n                \n                1800\,00CHF      \n    Details aufrufen\n    \n                \n                \n                \n                \n\n								13\n								Oktober\n								2026\n								\nAufstellungsabend\n                        \n                       \n                        Akademie für Bildung und Transformation\,\n\nHertensteinstrasse 30\n	\n		\n		Luzern\,\n\n\n	6004\n\n	Switzerland\n\n\n+ Google Karte\n                \n                40\,00CHF      \n    Details aufrufen\n    \n                \n                \n                \n                \n\n								09\n								November\n								2026\n								\nHypnose-Coach/Therapeut\n                        \n                       \n                        Akademie für Bildung und Transformation\,\n\nHertensteinstrasse 30\n	\n		\n		Luzern\,\n\n\n	6004\n\n	Switzerland\n\n\n+ Google Karte\n                \n                1560\,00CHF      \n    Details aufrufen\n    \n                \n                 Load More
URL:https://transformation-akademie.ch/event/yager-code-3/
LOCATION:Akademie für Bildung und Transformation\, Hertensteinstrasse 30\, Luzern\, 6004\, Switzerland
CATEGORIES:Ausbildung,YAGER Code
ATTACH;FMTTYPE=image/jpeg:https://transformation-akademie.ch/wp-content/uploads/2025/09/yagercode.jpg
END:VEVENT
END:VCALENDAR